BEGIN:VCALENDAR
VERSION:2.0
PRODID:-//EAA Chapter 167 - ECPv6.15.20//NONSGML v1.0//EN
CALSCALE:GREGORIAN
METHOD:PUBLISH
X-ORIGINAL-URL:https://www.eaa167.org
X-WR-CALDESC:Events for EAA Chapter 167
REFRESH-INTERVAL;VALUE=DURATION:PT1H
X-Robots-Tag:noindex
X-PUBLISHED-TTL:PT1H
BEGIN:VTIMEZONE
TZID:America/Los_Angeles
BEGIN:DAYLIGHT
TZOFFSETFROM:-0800
TZOFFSETTO:-0700
TZNAME:PDT
DTSTART:20240310T100000
END:DAYLIGHT
BEGIN:STANDARD
TZOFFSETFROM:-0700
TZOFFSETTO:-0800
TZNAME:PST
DTSTART:20241103T090000
END:STANDARD
BEGIN:DAYLIGHT
TZOFFSETFROM:-0800
TZOFFSETTO:-0700
TZNAME:PDT
DTSTART:20250309T100000
END:DAYLIGHT
BEGIN:STANDARD
TZOFFSETFROM:-0700
TZOFFSETTO:-0800
TZNAME:PST
DTSTART:20251102T090000
END:STANDARD
BEGIN:DAYLIGHT
TZOFFSETFROM:-0800
TZOFFSETTO:-0700
TZNAME:PDT
DTSTART:20260308T100000
END:DAYLIGHT
BEGIN:STANDARD
TZOFFSETFROM:-0700
TZOFFSETTO:-0800
TZNAME:PST
DTSTART:20261101T090000
END:STANDARD
BEGIN:DAYLIGHT
TZOFFSETFROM:-0800
TZOFFSETTO:-0700
TZNAME:PDT
DTSTART:20270314T100000
END:DAYLIGHT
BEGIN:STANDARD
TZOFFSETFROM:-0700
TZOFFSETTO:-0800
TZNAME:PST
DTSTART:20271107T090000
END:STANDARD
END:VTIMEZONE
BEGIN:VEVENT
DTSTART;TZID=America/Los_Angeles:20250805T190000
DTEND;TZID=America/Los_Angeles:20250805T200000
DTSTAMP:20260419T171157
CREATED:20241214T205054Z
LAST-MODIFIED:20241214T205054Z
UID:634-1754420400-1754424000@www.eaa167.org
SUMMARY:EAA 167 monthly meeting
DESCRIPTION:
URL:https://www.eaa167.org/event/eaa-167-monthly-meeting-22/
LOCATION:Napa County Airport (KAPC)\, 2000 Airport Rd\, Napa\, CA\, 94558
CATEGORIES:Chapter Meetings
END:VEVENT
BEGIN:VEVENT
DTSTART;TZID=America/Los_Angeles:20250902T190000
DTEND;TZID=America/Los_Angeles:20250902T200000
DTSTAMP:20260419T171157
CREATED:20241214T205149Z
LAST-MODIFIED:20241214T205149Z
UID:636-1756839600-1756843200@www.eaa167.org
SUMMARY:EAA 167 monthly meeting
DESCRIPTION:
URL:https://www.eaa167.org/event/eaa-167-monthly-meeting-23/
LOCATION:Napa County Airport (KAPC)\, 2000 Airport Rd\, Napa\, CA\, 94558
CATEGORIES:Chapter Meetings
END:VEVENT
BEGIN:VEVENT
DTSTART;TZID=America/Los_Angeles:20250906T110000
DTEND;TZID=America/Los_Angeles:20250906T140000
DTSTAMP:20260419T171157
CREATED:20250807T164635Z
LAST-MODIFIED:20250807T164635Z
UID:715-1757156400-1757167200@www.eaa167.org
SUMMARY:Young Eagles
DESCRIPTION:
URL:https://www.eaa167.org/event/young-eagles-3/
LOCATION:Napa County Airport (KAPC)\, 2000 Airport Rd\, Napa\, CA\, 94558
CATEGORIES:Young Eagles
END:VEVENT
BEGIN:VEVENT
DTSTART;TZID=America/Los_Angeles:20251007T190000
DTEND;TZID=America/Los_Angeles:20251007T200000
DTSTAMP:20260419T171157
CREATED:20241214T205259Z
LAST-MODIFIED:20241214T205259Z
UID:638-1759863600-1759867200@www.eaa167.org
SUMMARY:EAA 167 monthly meeting
DESCRIPTION:
URL:https://www.eaa167.org/event/eaa-167-monthly-meeting-24/
LOCATION:Napa County Airport (KAPC)\, 2000 Airport Rd\, Napa\, CA\, 94558
CATEGORIES:Chapter Meetings
END:VEVENT
BEGIN:VEVENT
DTSTART;TZID=America/Los_Angeles:20251104T190000
DTEND;TZID=America/Los_Angeles:20251104T200000
DTSTAMP:20260419T171157
CREATED:20241214T205343Z
LAST-MODIFIED:20241214T205343Z
UID:640-1762282800-1762286400@www.eaa167.org
SUMMARY:EAA 167 monthly meeting
DESCRIPTION:
URL:https://www.eaa167.org/event/eaa-167-monthly-meeting-25/
LOCATION:Napa County Airport (KAPC)\, 2000 Airport Rd\, Napa\, CA\, 94558
CATEGORIES:Chapter Meetings
END:VEVENT
BEGIN:VEVENT
DTSTART;TZID=America/Los_Angeles:20251108T110000
DTEND;TZID=America/Los_Angeles:20251108T140000
DTSTAMP:20260419T171157
CREATED:20251102T231517Z
LAST-MODIFIED:20251102T231824Z
UID:724-1762599600-1762610400@www.eaa167.org
SUMMARY:Young Eagles
DESCRIPTION:Rain fallback the folowing Saturday\, November 15th
URL:https://www.eaa167.org/event/young-eagles-4/
LOCATION:Napa County Airport (KAPC)\, 2000 Airport Rd\, Napa\, CA\, 94558
CATEGORIES:Young Eagles
END:VEVENT
BEGIN:VEVENT
DTSTART;TZID=America/Los_Angeles:20260106T190000
DTEND;TZID=America/Los_Angeles:20260106T200000
DTSTAMP:20260419T171157
CREATED:20251231T224127Z
LAST-MODIFIED:20251231T225140Z
UID:729-1767726000-1767729600@www.eaa167.org
SUMMARY:EAA 167 Monthly Meeting
DESCRIPTION:
URL:https://www.eaa167.org/event/january-2026-chapter-meeting/
LOCATION:Napa County Airport (KAPC)\, 2000 Airport Rd\, Napa\, CA\, 94558
CATEGORIES:Chapter Meetings
END:VEVENT
BEGIN:VEVENT
DTSTART;TZID=America/Los_Angeles:20260110T110000
DTEND;TZID=America/Los_Angeles:20260110T140000
DTSTAMP:20260419T171157
CREATED:20260104T230311Z
LAST-MODIFIED:20260104T230311Z
UID:759-1768042800-1768053600@www.eaa167.org
SUMMARY:Young Eagles
DESCRIPTION:
URL:https://www.eaa167.org/event/young-eagles-5/
LOCATION:Napa County Airport (KAPC)\, 2000 Airport Rd\, Napa\, CA\, 94558
CATEGORIES:Young Eagles
END:VEVENT
BEGIN:VEVENT
DTSTART;TZID=America/Los_Angeles:20260203T190000
DTEND;TZID=America/Los_Angeles:20260203T200000
DTSTAMP:20260419T171157
CREATED:20251231T224230Z
LAST-MODIFIED:20251231T225135Z
UID:731-1770145200-1770148800@www.eaa167.org
SUMMARY:EAA 167 Monthly Meeting
DESCRIPTION:
URL:https://www.eaa167.org/event/february-2026-chapter-meeting/
LOCATION:Napa County Airport (KAPC)\, 2000 Airport Rd\, Napa\, CA\, 94558
CATEGORIES:Chapter Meetings
END:VEVENT
BEGIN:VEVENT
DTSTART;TZID=America/Los_Angeles:20260303T190000
DTEND;TZID=America/Los_Angeles:20260303T200000
DTSTAMP:20260419T171157
CREATED:20251231T224318Z
LAST-MODIFIED:20251231T225131Z
UID:733-1772564400-1772568000@www.eaa167.org
SUMMARY:EAA 167 Monthly Meeting
DESCRIPTION:
URL:https://www.eaa167.org/event/march-2026-chapter-meeting/
LOCATION:Napa County Airport (KAPC)\, 2000 Airport Rd\, Napa\, CA\, 94558
CATEGORIES:Chapter Meetings
END:VEVENT
BEGIN:VEVENT
DTSTART;TZID=America/Los_Angeles:20260407T190000
DTEND;TZID=America/Los_Angeles:20260407T200000
DTSTAMP:20260419T171157
CREATED:20251231T224401Z
LAST-MODIFIED:20251231T225126Z
UID:735-1775588400-1775592000@www.eaa167.org
SUMMARY:EAA 167 Monthly Meeting
DESCRIPTION:
URL:https://www.eaa167.org/event/april-2026-chapter-meeting/
LOCATION:CA
CATEGORIES:Chapter Meetings
END:VEVENT
BEGIN:VEVENT
DTSTART;TZID=America/Los_Angeles:20260505T190000
DTEND;TZID=America/Los_Angeles:20260505T200000
DTSTAMP:20260419T171157
CREATED:20251231T224449Z
LAST-MODIFIED:20251231T225122Z
UID:737-1778007600-1778011200@www.eaa167.org
SUMMARY:EAA 167 Monthly Meeting
DESCRIPTION:
URL:https://www.eaa167.org/event/may-2026-chapter-meeting/
LOCATION:Napa County Airport (KAPC)\, 2000 Airport Rd\, Napa\, CA\, 94558
CATEGORIES:Chapter Meetings
END:VEVENT
BEGIN:VEVENT
DTSTART;TZID=America/Los_Angeles:20260602T190000
DTEND;TZID=America/Los_Angeles:20260602T200000
DTSTAMP:20260419T171157
CREATED:20251231T224521Z
LAST-MODIFIED:20251231T225118Z
UID:739-1780426800-1780430400@www.eaa167.org
SUMMARY:EAA 167 Monthly Meeting
DESCRIPTION:
URL:https://www.eaa167.org/event/june-2026-chapter-meeting/
LOCATION:Napa County Airport (KAPC)\, 2000 Airport Rd\, Napa\, CA\, 94558
CATEGORIES:Chapter Meetings
END:VEVENT
BEGIN:VEVENT
DTSTART;TZID=America/Los_Angeles:20260804T190000
DTEND;TZID=America/Los_Angeles:20260804T200000
DTSTAMP:20260419T171157
CREATED:20251231T224613Z
LAST-MODIFIED:20251231T225114Z
UID:741-1785870000-1785873600@www.eaa167.org
SUMMARY:EAA 167 Monthly Meeting
DESCRIPTION:
URL:https://www.eaa167.org/event/august-2026-chapter-meeting/
LOCATION:CA
CATEGORIES:Chapter Meetings
END:VEVENT
BEGIN:VEVENT
DTSTART;TZID=America/Los_Angeles:20260902T190000
DTEND;TZID=America/Los_Angeles:20260902T200000
DTSTAMP:20260419T171157
CREATED:20251231T224704Z
LAST-MODIFIED:20251231T225109Z
UID:743-1788375600-1788379200@www.eaa167.org
SUMMARY:EAA 167 Monthly Meeting
DESCRIPTION:
URL:https://www.eaa167.org/event/september-2026-chapter-meeting/
LOCATION:Napa County Airport (KAPC)\, 2000 Airport Rd\, Napa\, CA\, 94558
CATEGORIES:Chapter Meetings
END:VEVENT
BEGIN:VEVENT
DTSTART;TZID=America/Los_Angeles:20261006T190000
DTEND;TZID=America/Los_Angeles:20261006T200000
DTSTAMP:20260419T171157
CREATED:20251231T224752Z
LAST-MODIFIED:20251231T225105Z
UID:745-1791313200-1791316800@www.eaa167.org
SUMMARY:EAA 167 Monthly Meeting
DESCRIPTION:
URL:https://www.eaa167.org/event/october-2026-chapter-meeting/
LOCATION:Napa County Airport (KAPC)\, 2000 Airport Rd\, Napa\, CA\, 94558
CATEGORIES:Chapter Meetings
END:VEVENT
BEGIN:VEVENT
DTSTART;TZID=America/Los_Angeles:20261103T190000
DTEND;TZID=America/Los_Angeles:20261103T200000
DTSTAMP:20260419T171157
CREATED:20251231T224847Z
LAST-MODIFIED:20251231T225059Z
UID:747-1793732400-1793736000@www.eaa167.org
SUMMARY:EAA 167 Monthly Meeting
DESCRIPTION:
URL:https://www.eaa167.org/event/november-2026-chapter-meeting/
LOCATION:Napa County Airport (KAPC)\, 2000 Airport Rd\, Napa\, CA\, 94558
CATEGORIES:Chapter Meetings
END:VEVENT
END:VCALENDAR