BEGIN:VCALENDAR
VERSION:2.0
PRODID:-//EAA Chapter 167 - ECPv6.15.20//NONSGML v1.0//EN
CALSCALE:GREGORIAN
METHOD:PUBLISH
X-ORIGINAL-URL:https://www.eaa167.org
X-WR-CALDESC:Events for EAA Chapter 167
REFRESH-INTERVAL;VALUE=DURATION:PT1H
X-Robots-Tag:noindex
X-PUBLISHED-TTL:PT1H
BEGIN:VTIMEZONE
TZID:America/Los_Angeles
BEGIN:DAYLIGHT
TZOFFSETFROM:-0800
TZOFFSETTO:-0700
TZNAME:PDT
DTSTART:20250309T100000
END:DAYLIGHT
BEGIN:STANDARD
TZOFFSETFROM:-0700
TZOFFSETTO:-0800
TZNAME:PST
DTSTART:20251102T090000
END:STANDARD
BEGIN:DAYLIGHT
TZOFFSETFROM:-0800
TZOFFSETTO:-0700
TZNAME:PDT
DTSTART:20260308T100000
END:DAYLIGHT
BEGIN:STANDARD
TZOFFSETFROM:-0700
TZOFFSETTO:-0800
TZNAME:PST
DTSTART:20261101T090000
END:STANDARD
BEGIN:DAYLIGHT
TZOFFSETFROM:-0800
TZOFFSETTO:-0700
TZNAME:PDT
DTSTART:20270314T100000
END:DAYLIGHT
BEGIN:STANDARD
TZOFFSETFROM:-0700
TZOFFSETTO:-0800
TZNAME:PST
DTSTART:20271107T090000
END:STANDARD
END:VTIMEZONE
BEGIN:VEVENT
DTSTART;TZID=America/Los_Angeles:20260407T190000
DTEND;TZID=America/Los_Angeles:20260407T200000
DTSTAMP:20260419T203554
CREATED:20251231T224401Z
LAST-MODIFIED:20251231T225126Z
UID:735-1775588400-1775592000@www.eaa167.org
SUMMARY:EAA 167 Monthly Meeting
DESCRIPTION:
URL:https://www.eaa167.org/event/april-2026-chapter-meeting/
LOCATION:CA
CATEGORIES:Chapter Meetings
END:VEVENT
BEGIN:VEVENT
DTSTART;TZID=America/Los_Angeles:20260505T190000
DTEND;TZID=America/Los_Angeles:20260505T200000
DTSTAMP:20260419T203554
CREATED:20251231T224449Z
LAST-MODIFIED:20251231T225122Z
UID:737-1778007600-1778011200@www.eaa167.org
SUMMARY:EAA 167 Monthly Meeting
DESCRIPTION:
URL:https://www.eaa167.org/event/may-2026-chapter-meeting/
LOCATION:Napa County Airport (KAPC)\, 2000 Airport Rd\, Napa\, CA\, 94558
CATEGORIES:Chapter Meetings
END:VEVENT
BEGIN:VEVENT
DTSTART;TZID=America/Los_Angeles:20260602T190000
DTEND;TZID=America/Los_Angeles:20260602T200000
DTSTAMP:20260419T203554
CREATED:20251231T224521Z
LAST-MODIFIED:20251231T225118Z
UID:739-1780426800-1780430400@www.eaa167.org
SUMMARY:EAA 167 Monthly Meeting
DESCRIPTION:
URL:https://www.eaa167.org/event/june-2026-chapter-meeting/
LOCATION:Napa County Airport (KAPC)\, 2000 Airport Rd\, Napa\, CA\, 94558
CATEGORIES:Chapter Meetings
END:VEVENT
BEGIN:VEVENT
DTSTART;TZID=America/Los_Angeles:20260804T190000
DTEND;TZID=America/Los_Angeles:20260804T200000
DTSTAMP:20260419T203554
CREATED:20251231T224613Z
LAST-MODIFIED:20251231T225114Z
UID:741-1785870000-1785873600@www.eaa167.org
SUMMARY:EAA 167 Monthly Meeting
DESCRIPTION:
URL:https://www.eaa167.org/event/august-2026-chapter-meeting/
LOCATION:CA
CATEGORIES:Chapter Meetings
END:VEVENT
BEGIN:VEVENT
DTSTART;TZID=America/Los_Angeles:20260902T190000
DTEND;TZID=America/Los_Angeles:20260902T200000
DTSTAMP:20260419T203554
CREATED:20251231T224704Z
LAST-MODIFIED:20251231T225109Z
UID:743-1788375600-1788379200@www.eaa167.org
SUMMARY:EAA 167 Monthly Meeting
DESCRIPTION:
URL:https://www.eaa167.org/event/september-2026-chapter-meeting/
LOCATION:Napa County Airport (KAPC)\, 2000 Airport Rd\, Napa\, CA\, 94558
CATEGORIES:Chapter Meetings
END:VEVENT
BEGIN:VEVENT
DTSTART;TZID=America/Los_Angeles:20261006T190000
DTEND;TZID=America/Los_Angeles:20261006T200000
DTSTAMP:20260419T203554
CREATED:20251231T224752Z
LAST-MODIFIED:20251231T225105Z
UID:745-1791313200-1791316800@www.eaa167.org
SUMMARY:EAA 167 Monthly Meeting
DESCRIPTION:
URL:https://www.eaa167.org/event/october-2026-chapter-meeting/
LOCATION:Napa County Airport (KAPC)\, 2000 Airport Rd\, Napa\, CA\, 94558
CATEGORIES:Chapter Meetings
END:VEVENT
BEGIN:VEVENT
DTSTART;TZID=America/Los_Angeles:20261103T190000
DTEND;TZID=America/Los_Angeles:20261103T200000
DTSTAMP:20260419T203554
CREATED:20251231T224847Z
LAST-MODIFIED:20251231T225059Z
UID:747-1793732400-1793736000@www.eaa167.org
SUMMARY:EAA 167 Monthly Meeting
DESCRIPTION:
URL:https://www.eaa167.org/event/november-2026-chapter-meeting/
LOCATION:Napa County Airport (KAPC)\, 2000 Airport Rd\, Napa\, CA\, 94558
CATEGORIES:Chapter Meetings
END:VEVENT
END:VCALENDAR